BEGIN:VCALENDAR
VERSION:2.0
PRODID:-//Puerto Rico Pickleball Tournaments - ECPv6.15.20//NONSGML v1.0//EN
CALSCALE:GREGORIAN
METHOD:PUBLISH
X-WR-CALNAME:Puerto Rico Pickleball Tournaments
X-ORIGINAL-URL:https://puertoricopickleballtournaments.com
X-WR-CALDESC:Events for Puerto Rico Pickleball Tournaments
REFRESH-INTERVAL;VALUE=DURATION:PT1H
X-Robots-Tag:noindex
X-PUBLISHED-TTL:PT1H
BEGIN:VTIMEZONE
TZID:America/New_York
BEGIN:DAYLIGHT
TZOFFSETFROM:-0500
TZOFFSETTO:-0400
TZNAME:EDT
DTSTART:20250309T070000
END:DAYLIGHT
BEGIN:STANDARD
TZOFFSETFROM:-0400
TZOFFSETTO:-0500
TZNAME:EST
DTSTART:20251102T060000
END:STANDARD
BEGIN:DAYLIGHT
TZOFFSETFROM:-0500
TZOFFSETTO:-0400
TZNAME:EDT
DTSTART:20260308T070000
END:DAYLIGHT
BEGIN:STANDARD
TZOFFSETFROM:-0400
TZOFFSETTO:-0500
TZNAME:EST
DTSTART:20261101T060000
END:STANDARD
BEGIN:DAYLIGHT
TZOFFSETFROM:-0500
TZOFFSETTO:-0400
TZNAME:EDT
DTSTART:20270314T070000
END:DAYLIGHT
BEGIN:STANDARD
TZOFFSETFROM:-0400
TZOFFSETTO:-0500
TZNAME:EST
DTSTART:20271107T060000
END:STANDARD
END:VTIMEZONE
BEGIN:VEVENT
DTSTART;VALUE=DATE:20260424
DTEND;VALUE=DATE:20260425
DTSTAMP:20260420T081206
CREATED:20260411T163505Z
LAST-MODIFIED:20260411T163540Z
UID:10000218-1776988800-1777075199@puertoricopickleballtournaments.com
SUMMARY:Paddl Drive DUPR Night April
DESCRIPTION:● “Paddl Drive DUPR Night April”\nPickleball Tournament in Guaynabo\, Puerto Rico\nApril 24\, 2026 \nhttps://puertoricopickleballtournaments.com/event/paddl-drive-dupr-night-april/ \nShare this:\n				Share on Facebook (Opens in new window)\n				Facebook\n			\n				Share on X (Opens in new window)\n				X\n			\n				Share on WhatsApp (Opens in new window)\n				WhatsApp\n			\n				Share on Pinterest (Opens in new window)\n				Pinterest\n			\n				Share on LinkedIn (Opens in new window)\n				LinkedIn
URL:https://puertoricopickleballtournaments.com/event/paddl-drive-dupr-night-april/
LOCATION:Smash Labs in Guaynabo\, 9VGQ+49\, Guaynabo\, Puerto Rico
CATEGORIES:Moneyball,Puerto Rico
ATTACH;FMTTYPE=image/jpeg:https://puertoricopickleballtournaments.com/wp-content/uploads/2026/04/20260424b.jpg
END:VEVENT
BEGIN:VEVENT
DTSTART;VALUE=DATE:20260424
DTEND;VALUE=DATE:20260426
DTSTAMP:20260420T081206
CREATED:20260307T161520Z
LAST-MODIFIED:20260307T161558Z
UID:10000199-1776988800-1777161599@puertoricopickleballtournaments.com
SUMMARY:Puerto Rico The Dink Minor League Pickleball Spring Blast
DESCRIPTION:● “Puerto Rico The Dink Minor League Pickleball Spring Blast”\nPickleball Tournament in Humacao\, PR\nApril 24-25\, 2026 \nhttps://puertoricopickleballtournaments.com/event/puerto-rico-the-dink-minor-league-pickleball-spring-blast/ \nShare this:\n				Share on Facebook (Opens in new window)\n				Facebook\n			\n				Share on X (Opens in new window)\n				X\n			\n				Share on WhatsApp (Opens in new window)\n				WhatsApp\n			\n				Share on Pinterest (Opens in new window)\n				Pinterest\n			\n				Share on LinkedIn (Opens in new window)\n				LinkedIn
URL:https://puertoricopickleballtournaments.com/event/puerto-rico-the-dink-minor-league-pickleball-spring-blast/
LOCATION:Picklemania Club\, Bo Marina\, Humacao\, 00791\, Puerto Rico
CATEGORIES:Puerto Rico
ATTACH;FMTTYPE=image/jpeg:https://puertoricopickleballtournaments.com/wp-content/uploads/2026/03/20260424a.jpg
END:VEVENT
BEGIN:VEVENT
DTSTART;VALUE=DATE:20260424
DTEND;VALUE=DATE:20260427
DTSTAMP:20260420T081206
CREATED:20260411T204438Z
LAST-MODIFIED:20260411T204524Z
UID:10000222-1776988800-1777247999@puertoricopickleballtournaments.com
SUMMARY:Primer Torneo de Pickleball Torito Plata
DESCRIPTION:● “Primer Torneo de Pickleball Torito Plata”\nPickleball Tournament in Cayey\, Puerto Rico\nApril 24-26\, 2026 \nhttps://puertoricopickleballtournaments.com/event/primer-torneo-de-pickleball-torito-plata/ \nShare this:\n				Share on Facebook (Opens in new window)\n				Facebook\n			\n				Share on X (Opens in new window)\n				X\n			\n				Share on WhatsApp (Opens in new window)\n				WhatsApp\n			\n				Share on Pinterest (Opens in new window)\n				Pinterest\n			\n				Share on LinkedIn (Opens in new window)\n				LinkedIn
URL:https://puertoricopickleballtournaments.com/event/primer-torneo-de-pickleball-torito-plata/
LOCATION:Complejo Deportivo Cayey\, Cayey\, 00736\, Puerto Rico
CATEGORIES:Puerto Rico
ATTACH;FMTTYPE=image/jpeg:https://puertoricopickleballtournaments.com/wp-content/uploads/2026/04/20260424c.jpg
END:VEVENT
BEGIN:VEVENT
DTSTART;VALUE=DATE:20260425
DTEND;VALUE=DATE:20260426
DTSTAMP:20260420T081206
CREATED:20260328T125207Z
LAST-MODIFIED:20260328T125248Z
UID:10000212-1777075200-1777161599@puertoricopickleballtournaments.com
SUMMARY:La Guerrilla Abril 2026
DESCRIPTION:● “La Guerrilla Abril 2026”\nPickleball Tournament in Yabucoa\, Puerto Rico\nApril 25\, 2026 \nhttps://puertoricopickleballtournaments.com/event/la-guerrilla-abril-2026/ \nShare this:\n				Share on Facebook (Opens in new window)\n				Facebook\n			\n				Share on X (Opens in new window)\n				X\n			\n				Share on WhatsApp (Opens in new window)\n				WhatsApp\n			\n				Share on Pinterest (Opens in new window)\n				Pinterest\n			\n				Share on LinkedIn (Opens in new window)\n				LinkedIn
URL:https://puertoricopickleballtournaments.com/event/la-guerrilla-abril-2026/
LOCATION:Canchas Pickleball en Yabucoa\, 23VR+6P\, Yabucoa\, 00767\, Puerto Rico
CATEGORIES:Puerto Rico
ATTACH;FMTTYPE=image/jpeg:https://puertoricopickleballtournaments.com/wp-content/uploads/2026/03/20260425c.jpg
END:VEVENT
BEGIN:VEVENT
DTSTART;VALUE=DATE:20260425
DTEND;VALUE=DATE:20260426
DTSTAMP:20260420T081206
CREATED:20260411T140807Z
LAST-MODIFIED:20260411T142450Z
UID:10000217-1777075200-1777161599@puertoricopickleballtournaments.com
SUMMARY:APPR Torneo de Pickleball 2
DESCRIPTION:● “APPR Torneo de Pickleball 2”\nPickleball Tournament in San Juan\, Puerto Rico\nApril 25\, 2026 \nhttps://puertoricopickleballtournaments.com/event/appr-torneo-de-pickleball-2/ \nShare this:\n				Share on Facebook (Opens in new window)\n				Facebook\n			\n				Share on X (Opens in new window)\n				X\n			\n				Share on WhatsApp (Opens in new window)\n				WhatsApp\n			\n				Share on Pinterest (Opens in new window)\n				Pinterest\n			\n				Share on LinkedIn (Opens in new window)\n				LinkedIn
URL:https://puertoricopickleballtournaments.com/event/appr-torneo-de-pickleball-2/
LOCATION:The Mall of San Juan\, The Mall of San Juan Blvd\, San Juan\, Puerto Rico
CATEGORIES:Puerto Rico
ATTACH;FMTTYPE=image/jpeg:https://puertoricopickleballtournaments.com/wp-content/uploads/2026/04/20260425d.jpg
END:VEVENT
BEGIN:VEVENT
DTSTART;VALUE=DATE:20260425
DTEND;VALUE=DATE:20260426
DTSTAMP:20260420T081206
CREATED:20260412T144422Z
LAST-MODIFIED:20260412T144506Z
UID:10000223-1777075200-1777161599@puertoricopickleballtournaments.com
SUMMARY:Batalla de Clubes 2
DESCRIPTION:● “Batalla de Clubes 2”\nPickleball Tournament in Caguas\, Puerto Rico\nApril 25\, 2026 \nhttps://puertoricopickleballtournaments.com/event/batalla-de-clubes-2/ \nShare this:\n				Share on Facebook (Opens in new window)\n				Facebook\n			\n				Share on X (Opens in new window)\n				X\n			\n				Share on WhatsApp (Opens in new window)\n				WhatsApp\n			\n				Share on Pinterest (Opens in new window)\n				Pinterest\n			\n				Share on LinkedIn (Opens in new window)\n				LinkedIn
URL:https://puertoricopickleballtournaments.com/event/batalla-de-clubes-2/
LOCATION:Caguas Country Club\, Caguas\, 00725\, Puerto Rico
CATEGORIES:Puerto Rico
ATTACH;FMTTYPE=image/jpeg:https://puertoricopickleballtournaments.com/wp-content/uploads/2026/04/20260425e.jpg
END:VEVENT
BEGIN:VEVENT
DTSTART;VALUE=DATE:20260425
DTEND;VALUE=DATE:20260427
DTSTAMP:20260420T081206
CREATED:20260228T114620Z
LAST-MODIFIED:20260228T114701Z
UID:10000188-1777075200-1777247999@puertoricopickleballtournaments.com
SUMMARY:Arena Sports Park Beachtennis Pickleball Mix Tournament
DESCRIPTION:● “Arena Sports Park Beachtennis Pickleball Mix Tournament”\nPickleball Tournament in Ponce\, PR\nApril 25-26\, 2026 \nhttps://puertoricopickleballtournaments.com/event/arena-sports-park-beachtennis-pickleball-mix-tournament/ \nShare this:\n				Share on Facebook (Opens in new window)\n				Facebook\n			\n				Share on X (Opens in new window)\n				X\n			\n				Share on WhatsApp (Opens in new window)\n				WhatsApp\n			\n				Share on Pinterest (Opens in new window)\n				Pinterest\n			\n				Share on LinkedIn (Opens in new window)\n				LinkedIn
URL:https://puertoricopickleballtournaments.com/event/arena-sports-park-beachtennis-pickleball-mix-tournament/
LOCATION:Arena Sports Park\, Carr 14 Km 5.6 Bo Cerrillos\, Ponce\, Puerto Rico
CATEGORIES:Puerto Rico
ATTACH;FMTTYPE=image/jpeg:https://puertoricopickleballtournaments.com/wp-content/uploads/2026/02/20260425a.jpg
END:VEVENT
BEGIN:VEVENT
DTSTART;VALUE=DATE:20260425
DTEND;VALUE=DATE:20260427
DTSTAMP:20260420T081206
CREATED:20260312T184953Z
LAST-MODIFIED:20260312T185112Z
UID:10000205-1777075200-1777247999@puertoricopickleballtournaments.com
SUMMARY:Vive el Vibe Spring Break Tournament
DESCRIPTION:● “Vive el Vibe Spring Break Tournament”\nPickleball Tournament in Santa Isabel\, Puerto Rico\nApril 25-26\, 2026 \nhttps://puertoricopickleballtournaments.com/event/vive-el-vibe-spring-break-tournament/ \nShare this:\n				Share on Facebook (Opens in new window)\n				Facebook\n			\n				Share on X (Opens in new window)\n				X\n			\n				Share on WhatsApp (Opens in new window)\n				WhatsApp\n			\n				Share on Pinterest (Opens in new window)\n				Pinterest\n			\n				Share on LinkedIn (Opens in new window)\n				LinkedIn
URL:https://puertoricopickleballtournaments.com/event/vive-el-vibe-spring-break-tournament/
LOCATION:Hacienda del Sur Tennis Club\, 2JG4+954\, Santa Isabel\, 00757\, Puerto Rico
CATEGORIES:Puerto Rico
ATTACH;FMTTYPE=image/jpeg:https://puertoricopickleballtournaments.com/wp-content/uploads/2026/03/20260425b.jpg
END:VEVENT
BEGIN:VEVENT
DTSTART;VALUE=DATE:20260501
DTEND;VALUE=DATE:20260502
DTSTAMP:20260420T081206
CREATED:20260210T160420Z
LAST-MODIFIED:20260210T160430Z
UID:10000182-1777593600-1777679999@puertoricopickleballtournaments.com
SUMMARY:La Academia Friday Night May 2026
DESCRIPTION:● “La Academia Friday Night May 2026”\nPickleball Tournament in Caguas\, PR\nMay 1\, 2026\nThe complete list of Puerto Rico pickleball tournaments at www.PuertoRicoPickleballTournaments.com \nShare this:\n				Share on Facebook (Opens in new window)\n				Facebook\n			\n				Share on X (Opens in new window)\n				X\n			\n				Share on WhatsApp (Opens in new window)\n				WhatsApp\n			\n				Share on Pinterest (Opens in new window)\n				Pinterest\n			\n				Share on LinkedIn (Opens in new window)\n				LinkedIn
URL:https://puertoricopickleballtournaments.com/event/la-academia-friday-night-may-2026/
LOCATION:Complejo Deportivo Caguas\, 6WQV+5XH\, Caguas\, Caguas\, 00727\, Puerto Rico
CATEGORIES:Puerto Rico
ATTACH;FMTTYPE=image/jpeg:https://puertoricopickleballtournaments.com/wp-content/uploads/2025/12/zzz-LaAcademia.jpg
END:VEVENT
BEGIN:VEVENT
DTSTART;VALUE=DATE:20260501
DTEND;VALUE=DATE:20260504
DTSTAMP:20260420T081206
CREATED:20260327T060503Z
LAST-MODIFIED:20260404T071752Z
UID:10000210-1777593600-1777852799@puertoricopickleballtournaments.com
SUMMARY:5th PAC Pickleball Open
DESCRIPTION:● “5th PAC Pickleball Open”\nPickleball Tournament in Humacao\, Puerto Rico\nMay 1-3\, 2026 \nhttps://puertoricopickleballtournaments.com/event/5th-pac-pickleball-open/ \n  \nShare this:\n				Share on Facebook (Opens in new window)\n				Facebook\n			\n				Share on X (Opens in new window)\n				X\n			\n				Share on WhatsApp (Opens in new window)\n				WhatsApp\n			\n				Share on Pinterest (Opens in new window)\n				Pinterest\n			\n				Share on LinkedIn (Opens in new window)\n				LinkedIn
URL:https://puertoricopickleballtournaments.com/event/5th-pac-pickleball-open/
LOCATION:Palmas del Mar CC\, #1 Country Club Dr\, Humacao\, Humacao\, Puerto Rico
CATEGORIES:Puerto Rico
ATTACH;FMTTYPE=image/jpeg:https://puertoricopickleballtournaments.com/wp-content/uploads/2026/03/20260501a.jpg
END:VEVENT
BEGIN:VEVENT
DTSTART;VALUE=DATE:20260509
DTEND;VALUE=DATE:20260510
DTSTAMP:20260420T081206
CREATED:20260411T164101Z
LAST-MODIFIED:20260411T164136Z
UID:10000219-1778284800-1778371199@puertoricopickleballtournaments.com
SUMMARY:11-0-1 DUPR Power Saturday
DESCRIPTION:● “11-0-1 DUPR Power Saturday”\nPickleball Tournament in Guaynabo\, Puerto Rico\nMay 9\, 2026 \nhttps://puertoricopickleballtournaments.com/event/11-0-1-dupr-power-saturday/ \nShare this:\n				Share on Facebook (Opens in new window)\n				Facebook\n			\n				Share on X (Opens in new window)\n				X\n			\n				Share on WhatsApp (Opens in new window)\n				WhatsApp\n			\n				Share on Pinterest (Opens in new window)\n				Pinterest\n			\n				Share on LinkedIn (Opens in new window)\n				LinkedIn
URL:https://puertoricopickleballtournaments.com/event/11-0-1-dupr-power-saturday/
LOCATION:Smash Labs in Guaynabo\, 9VGQ+49\, Guaynabo\, Puerto Rico
CATEGORIES:Moneyball,Puerto Rico
ATTACH;FMTTYPE=image/jpeg:https://puertoricopickleballtournaments.com/wp-content/uploads/2026/04/20260509a.jpg
END:VEVENT
BEGIN:VEVENT
DTSTART;VALUE=DATE:20260519
DTEND;VALUE=DATE:20260520
DTSTAMP:20260420T081206
CREATED:20260307T140448Z
LAST-MODIFIED:20260307T140528Z
UID:10000197-1779148800-1779235199@puertoricopickleballtournaments.com
SUMMARY:PRHTA 2026 Pickleball & Golf Tournament
DESCRIPTION:● “PRHTA 2026 Pickleball & Golf Tournament”\nPickleball Tournament in Fajardo\, PR\nMay 19\, 2026 \nhttps://puertoricopickleballtournaments.com/event/prhta-2026-pickleball-golf-tournament/ \nShare this:\n				Share on Facebook (Opens in new window)\n				Facebook\n			\n				Share on X (Opens in new window)\n				X\n			\n				Share on WhatsApp (Opens in new window)\n				WhatsApp\n			\n				Share on Pinterest (Opens in new window)\n				Pinterest\n			\n				Share on LinkedIn (Opens in new window)\n				LinkedIn
URL:https://puertoricopickleballtournaments.com/event/prhta-2026-pickleball-golf-tournament/
LOCATION:El Conquistador Resort\, 1000 El Conquistador Ave\, Fajardo\, Fajardo\, 00738\, Puerto Rico
CATEGORIES:Puerto Rico
ATTACH;FMTTYPE=image/jpeg:https://puertoricopickleballtournaments.com/wp-content/uploads/2026/03/20260519a.jpg
END:VEVENT
BEGIN:VEVENT
DTSTART;VALUE=DATE:20260522
DTEND;VALUE=DATE:20260524
DTSTAMP:20260420T081206
CREATED:20260228T230959Z
LAST-MODIFIED:20260301T184638Z
UID:10000189-1779408000-1779580799@puertoricopickleballtournaments.com
SUMMARY:Puerto Rico Kitchen Series 2
DESCRIPTION:● “Puerto Rico Kitchen Series 2”\nPickleball Tournament in Caguas\, PR\nMay 22-23\, 2026 \nhttps://puertoricopickleballtournaments.com/event/puerto-rico-kitchen-series-2/ \nShare this:\n				Share on Facebook (Opens in new window)\n				Facebook\n			\n				Share on X (Opens in new window)\n				X\n			\n				Share on WhatsApp (Opens in new window)\n				WhatsApp\n			\n				Share on Pinterest (Opens in new window)\n				Pinterest\n			\n				Share on LinkedIn (Opens in new window)\n				LinkedIn
URL:https://puertoricopickleballtournaments.com/event/puerto-rico-kitchen-series-2/
LOCATION:La Academia Caguas\, 6WPW+J5\, Caguas\, Puerto Rico
CATEGORIES:Puerto Rico
ATTACH;FMTTYPE=image/jpeg:https://puertoricopickleballtournaments.com/wp-content/uploads/2026/02/20260522a-1.jpg
END:VEVENT
BEGIN:VEVENT
DTSTART;VALUE=DATE:20260523
DTEND;VALUE=DATE:20260524
DTSTAMP:20260420T081206
CREATED:20260411T172908Z
LAST-MODIFIED:20260411T173006Z
UID:10000220-1779494400-1779580799@puertoricopickleballtournaments.com
SUMMARY:The Kid-Chen Pickleball Junior Cup
DESCRIPTION:● “The Kid-Chen Pickleball Junior Cup”\nPickleball Tournament in Caguas\, Puerto Rico\nMay 23\, 2026 \nhttps://puertoricopickleballtournaments.com/event/the-kid-chen-pickleball-junior-cup/ \nShare this:\n				Share on Facebook (Opens in new window)\n				Facebook\n			\n				Share on X (Opens in new window)\n				X\n			\n				Share on WhatsApp (Opens in new window)\n				WhatsApp\n			\n				Share on Pinterest (Opens in new window)\n				Pinterest\n			\n				Share on LinkedIn (Opens in new window)\n				LinkedIn
URL:https://puertoricopickleballtournaments.com/event/the-kid-chen-pickleball-junior-cup/
LOCATION:La Academia Caguas\, 6WPW+J5\, Caguas\, Puerto Rico
CATEGORIES:Puerto Rico
ATTACH;FMTTYPE=image/jpeg:https://puertoricopickleballtournaments.com/wp-content/uploads/2026/04/20260523a.jpg
END:VEVENT
BEGIN:VEVENT
DTSTART;VALUE=DATE:20260606
DTEND;VALUE=DATE:20260608
DTSTAMP:20260420T081206
CREATED:20260404T064055Z
LAST-MODIFIED:20260404T064138Z
UID:10000213-1780704000-1780876799@puertoricopickleballtournaments.com
SUMMARY:Torneo de Pickleball Pro Fondos al Centenario
DESCRIPTION:● “Torneo de Pickleball Pro Fondos al Centenario”\nPickleball Tournament in San Juan\, Puerto Rico\nJune 6-7\, 2026 \nhttps://puertoricopickleballtournaments.com/event/torneo-de-pickleball-pro-fondos-al-centenario/ \nShare this:\n				Share on Facebook (Opens in new window)\n				Facebook\n			\n				Share on X (Opens in new window)\n				X\n			\n				Share on WhatsApp (Opens in new window)\n				WhatsApp\n			\n				Share on Pinterest (Opens in new window)\n				Pinterest\n			\n				Share on LinkedIn (Opens in new window)\n				LinkedIn
URL:https://puertoricopickleballtournaments.com/event/torneo-de-pickleball-pro-fondos-al-centenario/
LOCATION:Cancha de Tenis de Barbosa\, FX22+RV\, San Juan\, San Juan\, Puerto Rico
CATEGORIES:Puerto Rico
ATTACH;FMTTYPE=image/jpeg:https://puertoricopickleballtournaments.com/wp-content/uploads/2026/04/20260606a.jpg
END:VEVENT
BEGIN:VEVENT
DTSTART;VALUE=DATE:20260624
DTEND;VALUE=DATE:20260629
DTSTAMP:20260420T081206
CREATED:20260404T155216Z
LAST-MODIFIED:20260404T163849Z
UID:10000215-1782259200-1782691199@puertoricopickleballtournaments.com
SUMMARY:Dinkers Mundialito 2026
DESCRIPTION:● “Dinkers Mundialito 2026”\nPickleball Tournament in\, Puerto Rico\nJune 24-28\, 2026 \nhttps://puertoricopickleballtournaments.com/event/dinkers-mundialito-2026/ \nShare this:\n				Share on Facebook (Opens in new window)\n				Facebook\n			\n				Share on X (Opens in new window)\n				X\n			\n				Share on WhatsApp (Opens in new window)\n				WhatsApp\n			\n				Share on Pinterest (Opens in new window)\n				Pinterest\n			\n				Share on LinkedIn (Opens in new window)\n				LinkedIn
URL:https://puertoricopickleballtournaments.com/event/dinkers-mundialito-2026/
CATEGORIES:Puerto Rico
ATTACH;FMTTYPE=image/jpeg:https://puertoricopickleballtournaments.com/wp-content/uploads/2026/04/20260624a.jpg
ORGANIZER;CN="G Sports Series PR":MAILTO:gsportsseriespr@gmail.com
END:VEVENT
BEGIN:VEVENT
DTSTART;VALUE=DATE:20260627
DTEND;VALUE=DATE:20260629
DTSTAMP:20260420T081206
CREATED:20260411T175111Z
LAST-MODIFIED:20260411T175154Z
UID:10000221-1782518400-1782691199@puertoricopickleballtournaments.com
SUMMARY:Southside Pickle Clash
DESCRIPTION:● “Southside Pickle Clash”\nPickleball Tournament in Ponce\, Puerto Rico\nJune 27-28\, 2026 \nhttps://puertoricopickleballtournaments.com/event/southside-pickle-clash/ \nShare this:\n				Share on Facebook (Opens in new window)\n				Facebook\n			\n				Share on X (Opens in new window)\n				X\n			\n				Share on WhatsApp (Opens in new window)\n				WhatsApp\n			\n				Share on Pinterest (Opens in new window)\n				Pinterest\n			\n				Share on LinkedIn (Opens in new window)\n				LinkedIn
URL:https://puertoricopickleballtournaments.com/event/southside-pickle-clash/
LOCATION:Ponce Caobos Pickleball – Ciudad Deportiva Millito Navarro\, Los Caobos\, Ponce\, 00716\, Puerto Rico
CATEGORIES:Puerto Rico
ATTACH;FMTTYPE=image/jpeg:https://puertoricopickleballtournaments.com/wp-content/uploads/2026/04/20260627a.jpg
END:VEVENT
BEGIN:VEVENT
DTSTART;VALUE=DATE:20260802
DTEND;VALUE=DATE:20260803
DTSTAMP:20260420T081206
CREATED:20260312T181609Z
LAST-MODIFIED:20260312T181708Z
UID:10000204-1785628800-1785715199@puertoricopickleballtournaments.com
SUMMARY:El Mulo Pickleball 3rd Anniversary Tournament
DESCRIPTION:● “El Mulo Pickleball 3rd Anniversary Tournament”\nPickleball Tournament in Juncos\, Puerto Rico\nAugust 2\, 2026 \nhttps://puertoricopickleballtournaments.com/event/el-mulo-pickleball-3rd-anniversary-tournament/ \nShare this:\n				Share on Facebook (Opens in new window)\n				Facebook\n			\n				Share on X (Opens in new window)\n				X\n			\n				Share on WhatsApp (Opens in new window)\n				WhatsApp\n			\n				Share on Pinterest (Opens in new window)\n				Pinterest\n			\n				Share on LinkedIn (Opens in new window)\n				LinkedIn
URL:https://puertoricopickleballtournaments.com/event/el-mulo-pickleball-3rd-anniversary-tournament/
LOCATION:Juncos El Mulo Pickleball Courts\, Calle 1\, Juncos\, 00777\, Puerto Rico
CATEGORIES:Puerto Rico
ATTACH;FMTTYPE=image/jpeg:https://puertoricopickleballtournaments.com/wp-content/uploads/2026/03/20260802a.jpg
END:VEVENT
END:VCALENDAR