BEGIN:VCALENDAR
VERSION:2.0
PRODID:-//Puerto Rico Pickleball Tournaments - ECPv6.15.20//NONSGML v1.0//EN
CALSCALE:GREGORIAN
METHOD:PUBLISH
X-WR-CALNAME:Puerto Rico Pickleball Tournaments
X-ORIGINAL-URL:https://puertoricopickleballtournaments.com
X-WR-CALDESC:Events for Puerto Rico Pickleball Tournaments
REFRESH-INTERVAL;VALUE=DURATION:PT1H
X-Robots-Tag:noindex
X-PUBLISHED-TTL:PT1H
BEGIN:VTIMEZONE
TZID:America/New_York
BEGIN:DAYLIGHT
TZOFFSETFROM:-0500
TZOFFSETTO:-0400
TZNAME:EDT
DTSTART:20250309T070000
END:DAYLIGHT
BEGIN:STANDARD
TZOFFSETFROM:-0400
TZOFFSETTO:-0500
TZNAME:EST
DTSTART:20251102T060000
END:STANDARD
BEGIN:DAYLIGHT
TZOFFSETFROM:-0500
TZOFFSETTO:-0400
TZNAME:EDT
DTSTART:20260308T070000
END:DAYLIGHT
BEGIN:STANDARD
TZOFFSETFROM:-0400
TZOFFSETTO:-0500
TZNAME:EST
DTSTART:20261101T060000
END:STANDARD
BEGIN:DAYLIGHT
TZOFFSETFROM:-0500
TZOFFSETTO:-0400
TZNAME:EDT
DTSTART:20270314T070000
END:DAYLIGHT
BEGIN:STANDARD
TZOFFSETFROM:-0400
TZOFFSETTO:-0500
TZNAME:EST
DTSTART:20271107T060000
END:STANDARD
END:VTIMEZONE
BEGIN:VEVENT
DTSTART;VALUE=DATE:20260425
DTEND;VALUE=DATE:20260426
DTSTAMP:20260422T050611
CREATED:20260328T125207Z
LAST-MODIFIED:20260328T125248Z
UID:10000212-1777075200-1777161599@puertoricopickleballtournaments.com
SUMMARY:La Guerrilla Abril 2026
DESCRIPTION:● “La Guerrilla Abril 2026”\nPickleball Tournament in Yabucoa\, Puerto Rico\nApril 25\, 2026 \nhttps://puertoricopickleballtournaments.com/event/la-guerrilla-abril-2026/
URL:https://puertoricopickleballtournaments.com/event/la-guerrilla-abril-2026/
LOCATION:Canchas Pickleball en Yabucoa\, 23VR+6P\, Yabucoa\, 00767\, Puerto Rico
CATEGORIES:Puerto Rico
ATTACH;FMTTYPE=image/jpeg:https://puertoricopickleballtournaments.com/wp-content/uploads/2026/03/20260425c.jpg
END:VEVENT
END:VCALENDAR