BEGIN:VCALENDAR
VERSION:2.0
PRODID:-//Puerto Rico Pickleball Tournaments - ECPv6.15.20//NONSGML v1.0//EN
CALSCALE:GREGORIAN
METHOD:PUBLISH
X-ORIGINAL-URL:https://puertoricopickleballtournaments.com
X-WR-CALDESC:Events for Puerto Rico Pickleball Tournaments
REFRESH-INTERVAL;VALUE=DURATION:PT1H
X-Robots-Tag:noindex
X-PUBLISHED-TTL:PT1H
BEGIN:VTIMEZONE
TZID:America/New_York
BEGIN:DAYLIGHT
TZOFFSETFROM:-0500
TZOFFSETTO:-0400
TZNAME:EDT
DTSTART:20250309T070000
END:DAYLIGHT
BEGIN:STANDARD
TZOFFSETFROM:-0400
TZOFFSETTO:-0500
TZNAME:EST
DTSTART:20251102T060000
END:STANDARD
BEGIN:DAYLIGHT
TZOFFSETFROM:-0500
TZOFFSETTO:-0400
TZNAME:EDT
DTSTART:20260308T070000
END:DAYLIGHT
BEGIN:STANDARD
TZOFFSETFROM:-0400
TZOFFSETTO:-0500
TZNAME:EST
DTSTART:20261101T060000
END:STANDARD
BEGIN:DAYLIGHT
TZOFFSETFROM:-0500
TZOFFSETTO:-0400
TZNAME:EDT
DTSTART:20270314T070000
END:DAYLIGHT
BEGIN:STANDARD
TZOFFSETFROM:-0400
TZOFFSETTO:-0500
TZNAME:EST
DTSTART:20271107T060000
END:STANDARD
END:VTIMEZONE
BEGIN:VEVENT
DTSTART;VALUE=DATE:20260410
DTEND;VALUE=DATE:20260411
DTSTAMP:20260422T114404
CREATED:20260207T115156Z
LAST-MODIFIED:20260312T160334Z
UID:10000177-1775779200-1775865599@puertoricopickleballtournaments.com
SUMMARY:La Academia Friday Night April 2026
DESCRIPTION:● “La Academia Friday Night April 2026”\nPickleball Tournament in Caguas\, Puerto Rico\nApril 10\, 2026 \nhttps://puertoricopickleballtournaments.com/event/la-academia-friday-night-april-2026/
URL:https://puertoricopickleballtournaments.com/event/la-academia-friday-night-april-2026/
LOCATION:Complejo Deportivo Caguas\, 6WQV+5XH\, Caguas\, Caguas\, 00727\, Puerto Rico
CATEGORIES:Puerto Rico
ATTACH;FMTTYPE=image/jpeg:https://puertoricopickleballtournaments.com/wp-content/uploads/2026/02/20260410a.jpg
END:VEVENT
BEGIN:VEVENT
DTSTART;VALUE=DATE:20260306
DTEND;VALUE=DATE:20260307
DTSTAMP:20260422T114404
CREATED:20251219T175933Z
LAST-MODIFIED:20260210T160953Z
UID:10000161-1772755200-1772841599@puertoricopickleballtournaments.com
SUMMARY:La Academia Friday Night Marzo 2026
DESCRIPTION:● “La Academia Friday Night Marzo 2026”\nPickleball Tournament in Caguas\, PR\nMarch 6\, 2026 \nhttps://puertoricopickleballtournaments.com/event/la-academia-friday-night-marzo-2026/
URL:https://puertoricopickleballtournaments.com/event/la-academia-friday-night-marzo-2026/
LOCATION:Complejo Deportivo Caguas\, 6WQV+5XH\, Caguas\, Caguas\, 00727\, Puerto Rico
CATEGORIES:Puerto Rico
ATTACH;FMTTYPE=image/jpeg:https://puertoricopickleballtournaments.com/wp-content/uploads/2025/12/20260306a.jpg
END:VEVENT
BEGIN:VEVENT
DTSTART;VALUE=DATE:20260221
DTEND;VALUE=DATE:20260223
DTSTAMP:20260422T114404
CREATED:20251215T171737Z
LAST-MODIFIED:20260113T004122Z
UID:10000155-1771632000-1771804799@puertoricopickleballtournaments.com
SUMMARY:Puerto Rico Kitchen Series 2026 February
DESCRIPTION:● “Puerto Rico Kitchen Series 2026 February”\nPickleball Tournament in Caguas\, PR\nFebruary 21-22\, 2026 \nhttps://puertoricopickleballtournaments.com/event/puerto-rico-kitchen-series-2026-february/
URL:https://puertoricopickleballtournaments.com/event/puerto-rico-kitchen-series-2026-february/
LOCATION:Complejo Deportivo Caguas\, 6WQV+5XH\, Caguas\, Caguas\, 00727\, Puerto Rico
CATEGORIES:Puerto Rico
ATTACH;FMTTYPE=image/jpeg:https://puertoricopickleballtournaments.com/wp-content/uploads/2025/12/20260221a.jpg
END:VEVENT
BEGIN:VEVENT
DTSTART;VALUE=DATE:20260206
DTEND;VALUE=DATE:20260207
DTSTAMP:20260422T114404
CREATED:20251219T175816Z
LAST-MODIFIED:20260113T004027Z
UID:10000160-1770336000-1770422399@puertoricopickleballtournaments.com
SUMMARY:La Academia Friday Night Febrero 2026
DESCRIPTION:● “La Academia Friday Night Febrero 2026”\nPickleball Tournament in Caguas\, PR\nFebruary 6\, 2026 \nhttps://puertoricopickleballtournaments.com/event/la-academia-friday-night-febrero-2026/
URL:https://puertoricopickleballtournaments.com/event/la-academia-friday-night-febrero-2026/
LOCATION:Complejo Deportivo Caguas\, 6WQV+5XH\, Caguas\, Caguas\, 00727\, Puerto Rico
CATEGORIES:Puerto Rico
ATTACH;FMTTYPE=image/jpeg:https://puertoricopickleballtournaments.com/wp-content/uploads/2025/12/20260206a.jpg
END:VEVENT
BEGIN:VEVENT
DTSTART;VALUE=DATE:20260130
DTEND;VALUE=DATE:20260131
DTSTAMP:20260422T114404
CREATED:20251215T162328Z
LAST-MODIFIED:20260113T003735Z
UID:10000150-1769731200-1769817599@puertoricopickleballtournaments.com
SUMMARY:Torneo de Gladiadores by Positive Fury Pickleball Club
DESCRIPTION:● “Torneo de Gladiadores by Positive Fury Pickleball Club”\nPickleball Tournament in Caguas\, PR\nJanuary 30\, 2026 \nhttps://puertoricopickleballtournaments.com/event/torneo-de-gladiadores-by-positive-fury-pickleball-club/
URL:https://puertoricopickleballtournaments.com/event/torneo-de-gladiadores-by-positive-fury-pickleball-club/
LOCATION:Complejo Deportivo Caguas\, 6WQV+5XH\, Caguas\, Caguas\, 00727\, Puerto Rico
CATEGORIES:Puerto Rico
ATTACH;FMTTYPE=image/jpeg:https://puertoricopickleballtournaments.com/wp-content/uploads/2025/12/20260130a.jpg
END:VEVENT
BEGIN:VEVENT
DTSTART;VALUE=DATE:20260102
DTEND;VALUE=DATE:20260103
DTSTAMP:20260422T114404
CREATED:20251215T160244Z
LAST-MODIFIED:20251215T160244Z
UID:10000148-1767312000-1767398399@puertoricopickleballtournaments.com
SUMMARY:La Academia Friday Night Enero 2026
DESCRIPTION:● “La Academia Friday Night Enero 2026”\nPickleball Tournament in Caguas\, PR\nJanuary 2\, 2026\nThe complete list of Puerto Rico pickleball tournaments at www.PuertoRicoPickleballTournaments.com
URL:https://puertoricopickleballtournaments.com/event/la-academia-friday-night-enero-2026/
LOCATION:Complejo Deportivo Caguas\, 6WQV+5XH\, Caguas\, Caguas\, 00727\, Puerto Rico
CATEGORIES:Puerto Rico
ATTACH;FMTTYPE=image/jpeg:https://puertoricopickleballtournaments.com/wp-content/uploads/2025/12/20260102a.jpg
END:VEVENT
END:VCALENDAR