BEGIN:VCALENDAR
VERSION:2.0
PRODID:-//Puerto Rico Pickleball Tournaments - ECPv6.15.20//NONSGML v1.0//EN
CALSCALE:GREGORIAN
METHOD:PUBLISH
X-WR-CALNAME:Puerto Rico Pickleball Tournaments
X-ORIGINAL-URL:https://puertoricopickleballtournaments.com
X-WR-CALDESC:Events for Puerto Rico Pickleball Tournaments
REFRESH-INTERVAL;VALUE=DURATION:PT1H
X-Robots-Tag:noindex
X-PUBLISHED-TTL:PT1H
BEGIN:VTIMEZONE
TZID:America/New_York
BEGIN:DAYLIGHT
TZOFFSETFROM:-0500
TZOFFSETTO:-0400
TZNAME:EDT
DTSTART:20250309T070000
END:DAYLIGHT
BEGIN:STANDARD
TZOFFSETFROM:-0400
TZOFFSETTO:-0500
TZNAME:EST
DTSTART:20251102T060000
END:STANDARD
BEGIN:DAYLIGHT
TZOFFSETFROM:-0500
TZOFFSETTO:-0400
TZNAME:EDT
DTSTART:20260308T070000
END:DAYLIGHT
BEGIN:STANDARD
TZOFFSETFROM:-0400
TZOFFSETTO:-0500
TZNAME:EST
DTSTART:20261101T060000
END:STANDARD
BEGIN:DAYLIGHT
TZOFFSETFROM:-0500
TZOFFSETTO:-0400
TZNAME:EDT
DTSTART:20270314T070000
END:DAYLIGHT
BEGIN:STANDARD
TZOFFSETFROM:-0400
TZOFFSETTO:-0500
TZNAME:EST
DTSTART:20271107T060000
END:STANDARD
END:VTIMEZONE
BEGIN:VEVENT
DTSTART;VALUE=DATE:20260424
DTEND;VALUE=DATE:20260425
DTSTAMP:20260420T134024
CREATED:20260411T163505Z
LAST-MODIFIED:20260411T163540Z
UID:10000218-1776988800-1777075199@puertoricopickleballtournaments.com
SUMMARY:Paddl Drive DUPR Night April
DESCRIPTION:● “Paddl Drive DUPR Night April”\nPickleball Tournament in Guaynabo\, Puerto Rico\nApril 24\, 2026 \nhttps://puertoricopickleballtournaments.com/event/paddl-drive-dupr-night-april/
URL:https://puertoricopickleballtournaments.com/event/paddl-drive-dupr-night-april/
LOCATION:Smash Labs in Guaynabo\, 9VGQ+49\, Guaynabo\, Puerto Rico
CATEGORIES:Moneyball,Puerto Rico
ATTACH;FMTTYPE=image/jpeg:https://puertoricopickleballtournaments.com/wp-content/uploads/2026/04/20260424b.jpg
END:VEVENT
BEGIN:VEVENT
DTSTART;VALUE=DATE:20260509
DTEND;VALUE=DATE:20260510
DTSTAMP:20260420T134024
CREATED:20260411T164101Z
LAST-MODIFIED:20260411T164136Z
UID:10000219-1778284800-1778371199@puertoricopickleballtournaments.com
SUMMARY:11-0-1 DUPR Power Saturday
DESCRIPTION:● “11-0-1 DUPR Power Saturday”\nPickleball Tournament in Guaynabo\, Puerto Rico\nMay 9\, 2026 \nhttps://puertoricopickleballtournaments.com/event/11-0-1-dupr-power-saturday/
URL:https://puertoricopickleballtournaments.com/event/11-0-1-dupr-power-saturday/
LOCATION:Smash Labs in Guaynabo\, 9VGQ+49\, Guaynabo\, Puerto Rico
CATEGORIES:Moneyball,Puerto Rico
ATTACH;FMTTYPE=image/jpeg:https://puertoricopickleballtournaments.com/wp-content/uploads/2026/04/20260509a.jpg
END:VEVENT
END:VCALENDAR